BEGIN:VCALENDAR
VERSION:2.0
PRODID:-//mcacademy - ECPv6.15.20//NONSGML v1.0//EN
CALSCALE:GREGORIAN
METHOD:PUBLISH
X-WR-CALNAME:mcacademy
X-ORIGINAL-URL:https://www.mcacademy.ca/fr/
X-WR-CALDESC:Évènements pour mcacademy
REFRESH-INTERVAL;VALUE=DURATION:PT1H
X-Robots-Tag:noindex
X-PUBLISHED-TTL:PT1H
BEGIN:VTIMEZONE
TZID:America/Toronto
BEGIN:DAYLIGHT
TZOFFSETFROM:-0500
TZOFFSETTO:-0400
TZNAME:EDT
DTSTART:20250309T070000
END:DAYLIGHT
BEGIN:STANDARD
TZOFFSETFROM:-0400
TZOFFSETTO:-0500
TZNAME:EST
DTSTART:20251102T060000
END:STANDARD
BEGIN:DAYLIGHT
TZOFFSETFROM:-0500
TZOFFSETTO:-0400
TZNAME:EDT
DTSTART:20260308T070000
END:DAYLIGHT
BEGIN:STANDARD
TZOFFSETFROM:-0400
TZOFFSETTO:-0500
TZNAME:EST
DTSTART:20261101T060000
END:STANDARD
BEGIN:DAYLIGHT
TZOFFSETFROM:-0500
TZOFFSETTO:-0400
TZNAME:EDT
DTSTART:20270314T070000
END:DAYLIGHT
BEGIN:STANDARD
TZOFFSETFROM:-0400
TZOFFSETTO:-0500
TZNAME:EST
DTSTART:20271107T060000
END:STANDARD
END:VTIMEZONE
BEGIN:VEVENT
DTSTART;TZID=America/Toronto:20260424T000000
DTEND;TZID=America/Toronto:20260424T235959
DTSTAMP:20260421T081031
CREATED:20230921T174954Z
LAST-MODIFIED:20260226T145441Z
UID:4898-1776988800-1777075199@www.mcacademy.ca
SUMMARY:Distribution des bulletins
DESCRIPTION:
URL:https://www.mcacademy.ca/fr/event/distribution-des-bulletins-3/
END:VEVENT
BEGIN:VEVENT
DTSTART;TZID=America/Toronto:20260430T000000
DTEND;TZID=America/Toronto:20260430T235959
DTSTAMP:20260421T081031
CREATED:20230921T182200Z
LAST-MODIFIED:20260226T152531Z
UID:4900-1777507200-1777593599@www.mcacademy.ca
SUMMARY:Rencontre parents et professeurs (pas de cours)
DESCRIPTION:
URL:https://www.mcacademy.ca/fr/event/rencontre-parents-et-professeurs-pas-de-cours-2/
END:VEVENT
END:VCALENDAR