BEGIN:VCALENDAR
VERSION:2.0
PRODID:-//mcacademy - ECPv6.15.20//NONSGML v1.0//EN
CALSCALE:GREGORIAN
METHOD:PUBLISH
X-WR-CALNAME:mcacademy
X-ORIGINAL-URL:https://www.mcacademy.ca/fr/
X-WR-CALDESC:Évènements pour mcacademy
REFRESH-INTERVAL;VALUE=DURATION:PT1H
X-Robots-Tag:noindex
X-PUBLISHED-TTL:PT1H
BEGIN:VTIMEZONE
TZID:America/Toronto
BEGIN:DAYLIGHT
TZOFFSETFROM:-0500
TZOFFSETTO:-0400
TZNAME:EDT
DTSTART:20240310T070000
END:DAYLIGHT
BEGIN:STANDARD
TZOFFSETFROM:-0400
TZOFFSETTO:-0500
TZNAME:EST
DTSTART:20241103T060000
END:STANDARD
BEGIN:DAYLIGHT
TZOFFSETFROM:-0500
TZOFFSETTO:-0400
TZNAME:EDT
DTSTART:20250309T070000
END:DAYLIGHT
BEGIN:STANDARD
TZOFFSETFROM:-0400
TZOFFSETTO:-0500
TZNAME:EST
DTSTART:20251102T060000
END:STANDARD
BEGIN:DAYLIGHT
TZOFFSETFROM:-0500
TZOFFSETTO:-0400
TZNAME:EDT
DTSTART:20260308T070000
END:DAYLIGHT
BEGIN:STANDARD
TZOFFSETFROM:-0400
TZOFFSETTO:-0500
TZNAME:EST
DTSTART:20261101T060000
END:STANDARD
BEGIN:DAYLIGHT
TZOFFSETFROM:-0500
TZOFFSETTO:-0400
TZNAME:EDT
DTSTART:20270314T070000
END:DAYLIGHT
BEGIN:STANDARD
TZOFFSETFROM:-0400
TZOFFSETTO:-0500
TZNAME:EST
DTSTART:20271107T060000
END:STANDARD
END:VTIMEZONE
BEGIN:VEVENT
DTSTART;VALUE=DATE:20251222
DTEND;VALUE=DATE:20260103
DTSTAMP:20260425T080057
CREATED:20230921T171552Z
LAST-MODIFIED:20250915T183211Z
UID:4832-1766361600-1767398399@www.mcacademy.ca
SUMMARY:Vacances
DESCRIPTION:
URL:https://www.mcacademy.ca/fr/event/vacances/
END:VEVENT
BEGIN:VEVENT
DTSTART;VALUE=DATE:20260105
DTEND;VALUE=DATE:20260106
DTSTAMP:20260425T080057
CREATED:20230921T171658Z
LAST-MODIFIED:20250915T183306Z
UID:4834-1767571200-1767657599@www.mcacademy.ca
SUMMARY:La semaine des carrières
DESCRIPTION:
URL:https://www.mcacademy.ca/fr/event/la-semaine-des-carrieres/
END:VEVENT
BEGIN:VEVENT
DTSTART;VALUE=DATE:20260109
DTEND;VALUE=DATE:20260110
DTSTAMP:20260425T080057
CREATED:20230921T171733Z
LAST-MODIFIED:20250915T183413Z
UID:4836-1767916800-1768003199@www.mcacademy.ca
SUMMARY:Journée sans uniforme
DESCRIPTION:
URL:https://www.mcacademy.ca/fr/event/journee-sans-uniforme-5/
END:VEVENT
BEGIN:VEVENT
DTSTART;VALUE=DATE:20260119
DTEND;VALUE=DATE:20260120
DTSTAMP:20260425T080057
CREATED:20230921T171816Z
LAST-MODIFIED:20250915T183550Z
UID:4838-1768780800-1768867199@www.mcacademy.ca
SUMMARY:Examens formels (English / Français)
DESCRIPTION:
URL:https://www.mcacademy.ca/fr/event/examens-formels-francais-math/
END:VEVENT
BEGIN:VEVENT
DTSTART;VALUE=DATE:20260120
DTEND;VALUE=DATE:20260121
DTSTAMP:20260425T080057
CREATED:20230921T171859Z
LAST-MODIFIED:20250915T183652Z
UID:4840-1768867200-1768953599@www.mcacademy.ca
SUMMARY:Examens formels (Sciences)
DESCRIPTION:
URL:https://www.mcacademy.ca/fr/event/examens-formels-sciences-english/
END:VEVENT
BEGIN:VEVENT
DTSTART;VALUE=DATE:20260121
DTEND;VALUE=DATE:20260122
DTSTAMP:20260425T080057
CREATED:20230921T172033Z
LAST-MODIFIED:20250915T183756Z
UID:4842-1768953600-1769039999@www.mcacademy.ca
SUMMARY:Examens formels (Math / Sci. Soc.)
DESCRIPTION:
URL:https://www.mcacademy.ca/fr/event/examens-formels-sci-soc/
END:VEVENT
BEGIN:VEVENT
DTSTART;VALUE=DATE:20260122
DTEND;VALUE=DATE:20260123
DTSTAMP:20260425T080057
CREATED:20230921T172138Z
LAST-MODIFIED:20250915T184134Z
UID:4844-1769040000-1769126399@www.mcacademy.ca
SUMMARY:Examens formels (Info.)
DESCRIPTION:
URL:https://www.mcacademy.ca/fr/event/examens-formels-info/
END:VEVENT
BEGIN:VEVENT
DTSTART;VALUE=DATE:20260123
DTEND;VALUE=DATE:20260124
DTSTAMP:20260425T080057
CREATED:20230921T172218Z
LAST-MODIFIED:20250915T184227Z
UID:4846-1769126400-1769212799@www.mcacademy.ca
SUMMARY:Journée d'activité - traineau à chien
DESCRIPTION:
URL:https://www.mcacademy.ca/fr/event/journee-dactivite-traineau-a-chien/
END:VEVENT
BEGIN:VEVENT
DTSTART;VALUE=DATE:20260128
DTEND;VALUE=DATE:20260129
DTSTAMP:20260425T080057
CREATED:20230921T172336Z
LAST-MODIFIED:20250915T184318Z
UID:4850-1769558400-1769644799@www.mcacademy.ca
SUMMARY:Réunion du comité des parents 19:00p.m.
DESCRIPTION:
URL:https://www.mcacademy.ca/fr/event/reunion-du-comite-des-parents-1930p-m-2/
END:VEVENT
BEGIN:VEVENT
DTSTART;VALUE=DATE:20260130
DTEND;VALUE=DATE:20260131
DTSTAMP:20260425T080057
CREATED:20230921T172254Z
LAST-MODIFIED:20250915T184410Z
UID:4848-1769731200-1769817599@www.mcacademy.ca
SUMMARY:Journée pédagogique
DESCRIPTION:
URL:https://www.mcacademy.ca/fr/event/journee-pedagogique-3/
END:VEVENT
END:VCALENDAR