BEGIN:VCALENDAR
VERSION:2.0
PRODID:-//mcacademy - ECPv6.15.20//NONSGML v1.0//EN
CALSCALE:GREGORIAN
METHOD:PUBLISH
X-WR-CALNAME:mcacademy
X-ORIGINAL-URL:https://www.mcacademy.ca/fr/
X-WR-CALDESC:Évènements pour mcacademy
REFRESH-INTERVAL;VALUE=DURATION:PT1H
X-Robots-Tag:noindex
X-PUBLISHED-TTL:PT1H
BEGIN:VTIMEZONE
TZID:America/Toronto
BEGIN:DAYLIGHT
TZOFFSETFROM:-0500
TZOFFSETTO:-0400
TZNAME:EDT
DTSTART:20240310T070000
END:DAYLIGHT
BEGIN:STANDARD
TZOFFSETFROM:-0400
TZOFFSETTO:-0500
TZNAME:EST
DTSTART:20241103T060000
END:STANDARD
BEGIN:DAYLIGHT
TZOFFSETFROM:-0500
TZOFFSETTO:-0400
TZNAME:EDT
DTSTART:20250309T070000
END:DAYLIGHT
BEGIN:STANDARD
TZOFFSETFROM:-0400
TZOFFSETTO:-0500
TZNAME:EST
DTSTART:20251102T060000
END:STANDARD
BEGIN:DAYLIGHT
TZOFFSETFROM:-0500
TZOFFSETTO:-0400
TZNAME:EDT
DTSTART:20260308T070000
END:DAYLIGHT
BEGIN:STANDARD
TZOFFSETFROM:-0400
TZOFFSETTO:-0500
TZNAME:EST
DTSTART:20261101T060000
END:STANDARD
BEGIN:DAYLIGHT
TZOFFSETFROM:-0500
TZOFFSETTO:-0400
TZNAME:EDT
DTSTART:20270314T070000
END:DAYLIGHT
BEGIN:STANDARD
TZOFFSETFROM:-0400
TZOFFSETTO:-0500
TZNAME:EST
DTSTART:20271107T060000
END:STANDARD
END:VTIMEZONE
BEGIN:VEVENT
DTSTART;VALUE=DATE:20251205
DTEND;VALUE=DATE:20251206
DTSTAMP:20260425T105427
CREATED:20230921T171247Z
LAST-MODIFIED:20250915T182858Z
UID:4826-1764892800-1764979199@www.mcacademy.ca
SUMMARY:Journée sans uniforme
DESCRIPTION:
URL:https://www.mcacademy.ca/fr/event/journee-sans-uniforme-4/
END:VEVENT
BEGIN:VEVENT
DTSTART;VALUE=DATE:20251205
DTEND;VALUE=DATE:20251206
DTSTAMP:20260425T105427
CREATED:20230921T171329Z
LAST-MODIFIED:20250915T182951Z
UID:4828-1764892800-1764979199@www.mcacademy.ca
SUMMARY:Soirée d'art dramatique 19:30
DESCRIPTION:
URL:https://www.mcacademy.ca/fr/event/soiree-dart-dramatique-1930/
END:VEVENT
BEGIN:VEVENT
DTSTART;VALUE=DATE:20251219
DTEND;VALUE=DATE:20251220
DTSTAMP:20260425T105427
CREATED:20230921T171414Z
LAST-MODIFIED:20250915T183047Z
UID:4830-1766102400-1766188799@www.mcacademy.ca
SUMMARY:Les élèves quittent à midi
DESCRIPTION:
URL:https://www.mcacademy.ca/fr/event/les-eleves-quittent-a-midi/
END:VEVENT
BEGIN:VEVENT
DTSTART;VALUE=DATE:20251222
DTEND;VALUE=DATE:20260103
DTSTAMP:20260425T105427
CREATED:20230921T171552Z
LAST-MODIFIED:20250915T183211Z
UID:4832-1766361600-1767398399@www.mcacademy.ca
SUMMARY:Vacances
DESCRIPTION:
URL:https://www.mcacademy.ca/fr/event/vacances/
END:VEVENT
END:VCALENDAR