BEGIN:VCALENDAR
VERSION:2.0
PRODID:-//mcacademy - ECPv6.15.20//NONSGML v1.0//EN
CALSCALE:GREGORIAN
METHOD:PUBLISH
X-WR-CALNAME:mcacademy
X-ORIGINAL-URL:https://www.mcacademy.ca/fr/
X-WR-CALDESC:Évènements pour mcacademy
REFRESH-INTERVAL;VALUE=DURATION:PT1H
X-Robots-Tag:noindex
X-PUBLISHED-TTL:PT1H
BEGIN:VTIMEZONE
TZID:America/Toronto
BEGIN:DAYLIGHT
TZOFFSETFROM:-0500
TZOFFSETTO:-0400
TZNAME:EDT
DTSTART:20240310T070000
END:DAYLIGHT
BEGIN:STANDARD
TZOFFSETFROM:-0400
TZOFFSETTO:-0500
TZNAME:EST
DTSTART:20241103T060000
END:STANDARD
BEGIN:DAYLIGHT
TZOFFSETFROM:-0500
TZOFFSETTO:-0400
TZNAME:EDT
DTSTART:20250309T070000
END:DAYLIGHT
BEGIN:STANDARD
TZOFFSETFROM:-0400
TZOFFSETTO:-0500
TZNAME:EST
DTSTART:20251102T060000
END:STANDARD
BEGIN:DAYLIGHT
TZOFFSETFROM:-0500
TZOFFSETTO:-0400
TZNAME:EDT
DTSTART:20260308T070000
END:DAYLIGHT
BEGIN:STANDARD
TZOFFSETFROM:-0400
TZOFFSETTO:-0500
TZNAME:EST
DTSTART:20261101T060000
END:STANDARD
END:VTIMEZONE
BEGIN:VEVENT
DTSTART;VALUE=DATE:20251103
DTEND;VALUE=DATE:20251104
DTSTAMP:20260425T113027
CREATED:20230920T201759Z
LAST-MODIFIED:20250902T201349Z
UID:4800-1762128000-1762214399@www.mcacademy.ca
SUMMARY:Revue périodique (Français / Math)
DESCRIPTION:
URL:https://www.mcacademy.ca/fr/event/revue-periodique-francais-math/
END:VEVENT
BEGIN:VEVENT
DTSTART;VALUE=DATE:20251104
DTEND;VALUE=DATE:20251105
DTSTAMP:20260425T113027
CREATED:20230920T201849Z
LAST-MODIFIED:20250902T201656Z
UID:4802-1762214400-1762300799@www.mcacademy.ca
SUMMARY:Revue périodique (Sciences / English)
DESCRIPTION:
URL:https://www.mcacademy.ca/fr/event/revue-periodique-sciences-english/
END:VEVENT
BEGIN:VEVENT
DTSTART;VALUE=DATE:20251105
DTEND;VALUE=DATE:20251106
DTSTAMP:20260425T113027
CREATED:20230920T201930Z
LAST-MODIFIED:20250902T201851Z
UID:4804-1762300800-1762387199@www.mcacademy.ca
SUMMARY:Revue périodique (Sci. Soc.)
DESCRIPTION:
URL:https://www.mcacademy.ca/fr/event/revue-periodique-s-s/
END:VEVENT
BEGIN:VEVENT
DTSTART;VALUE=DATE:20251106
DTEND;VALUE=DATE:20251107
DTSTAMP:20260425T113028
CREATED:20230920T202009Z
LAST-MODIFIED:20250902T202038Z
UID:4806-1762387200-1762473599@www.mcacademy.ca
SUMMARY:Revue périodique (Info.)
DESCRIPTION:
URL:https://www.mcacademy.ca/fr/event/revue-periodique-sci-soc-2/
END:VEVENT
BEGIN:VEVENT
DTSTART;VALUE=DATE:20251107
DTEND;VALUE=DATE:20251108
DTSTAMP:20260425T113028
CREATED:20230920T202306Z
LAST-MODIFIED:20250902T202139Z
UID:4808-1762473600-1762559999@www.mcacademy.ca
SUMMARY:Journée d'activité - 8e Art dramatique/Sports / 7e - Peinture/Sports
DESCRIPTION:
URL:https://www.mcacademy.ca/fr/event/journee-dactivite-8e-art-dramatique-7e-activite-physique/
END:VEVENT
BEGIN:VEVENT
DTSTART;VALUE=DATE:20251110
DTEND;VALUE=DATE:20251111
DTSTAMP:20260425T113028
CREATED:20230920T202342Z
LAST-MODIFIED:20250902T202235Z
UID:4810-1762732800-1762819199@www.mcacademy.ca
SUMMARY:Journée pédagogique
DESCRIPTION:
URL:https://www.mcacademy.ca/fr/event/journee-pedagogique-2/
END:VEVENT
BEGIN:VEVENT
DTSTART;VALUE=DATE:20251114
DTEND;VALUE=DATE:20251115
DTSTAMP:20260425T113028
CREATED:20230920T192615Z
LAST-MODIFIED:20250902T201244Z
UID:4798-1763078400-1763164799@www.mcacademy.ca
SUMMARY:Journée sans uniforme
DESCRIPTION:
URL:https://www.mcacademy.ca/fr/event/journee-sans-uniforme-3/
END:VEVENT
BEGIN:VEVENT
DTSTART;VALUE=DATE:20251114
DTEND;VALUE=DATE:20251115
DTSTAMP:20260425T113028
CREATED:20230920T202421Z
LAST-MODIFIED:20250915T181604Z
UID:4812-1763078400-1763164799@www.mcacademy.ca
SUMMARY:Distribution des bulletins
DESCRIPTION:
URL:https://www.mcacademy.ca/fr/event/distribution-des-bulletins/
END:VEVENT
BEGIN:VEVENT
DTSTART;VALUE=DATE:20251115
DTEND;VALUE=DATE:20251116
DTSTAMP:20260425T113028
CREATED:20230921T170943Z
LAST-MODIFIED:20250915T184023Z
UID:4822-1763164800-1763251199@www.mcacademy.ca
SUMMARY:Examen d'entrée 12:30
DESCRIPTION:
URL:https://www.mcacademy.ca/fr/event/examen-dentree-2/
END:VEVENT
BEGIN:VEVENT
DTSTART;VALUE=DATE:20251120
DTEND;VALUE=DATE:20251121
DTSTAMP:20260425T113028
CREATED:20230921T170739Z
LAST-MODIFIED:20250915T181702Z
UID:4818-1763596800-1763683199@www.mcacademy.ca
SUMMARY:Rencontre parents et professeurs (soirée) Les élèves quittent à 14:00
DESCRIPTION:
URL:https://www.mcacademy.ca/fr/event/rencontre-parents-et-professeurs-soiree-les-eleves-quittent-a-1400/
END:VEVENT
BEGIN:VEVENT
DTSTART;VALUE=DATE:20251121
DTEND;VALUE=DATE:20251122
DTSTAMP:20260425T113028
CREATED:20230921T170857Z
LAST-MODIFIED:20250915T181751Z
UID:4820-1763683200-1763769599@www.mcacademy.ca
SUMMARY:Rencontre parents et professeurs (pas de cours)
DESCRIPTION:
URL:https://www.mcacademy.ca/fr/event/rencontre-parents-et-professeurs-pas-de-cours/
END:VEVENT
BEGIN:VEVENT
DTSTART;VALUE=DATE:20251126
DTEND;VALUE=DATE:20251127
DTSTAMP:20260425T113028
CREATED:20230921T171037Z
LAST-MODIFIED:20250915T182420Z
UID:4824-1764115200-1764201599@www.mcacademy.ca
SUMMARY:Réunion du comité des parents 19:00
DESCRIPTION:
URL:https://www.mcacademy.ca/fr/event/reunion-du-comite-des-parents-1930p-m/
END:VEVENT
END:VCALENDAR