BEGIN:VCALENDAR
VERSION:2.0
PRODID:-//mcacademy - ECPv6.15.20//NONSGML v1.0//EN
CALSCALE:GREGORIAN
METHOD:PUBLISH
X-ORIGINAL-URL:https://www.mcacademy.ca/fr/
X-WR-CALDESC:Évènements pour mcacademy
REFRESH-INTERVAL;VALUE=DURATION:PT1H
X-Robots-Tag:noindex
X-PUBLISHED-TTL:PT1H
BEGIN:VTIMEZONE
TZID:America/Toronto
BEGIN:DAYLIGHT
TZOFFSETFROM:-0500
TZOFFSETTO:-0400
TZNAME:EDT
DTSTART:20240310T070000
END:DAYLIGHT
BEGIN:STANDARD
TZOFFSETFROM:-0400
TZOFFSETTO:-0500
TZNAME:EST
DTSTART:20241103T060000
END:STANDARD
BEGIN:DAYLIGHT
TZOFFSETFROM:-0500
TZOFFSETTO:-0400
TZNAME:EDT
DTSTART:20250309T070000
END:DAYLIGHT
BEGIN:STANDARD
TZOFFSETFROM:-0400
TZOFFSETTO:-0500
TZNAME:EST
DTSTART:20251102T060000
END:STANDARD
BEGIN:DAYLIGHT
TZOFFSETFROM:-0500
TZOFFSETTO:-0400
TZNAME:EDT
DTSTART:20260308T070000
END:DAYLIGHT
BEGIN:STANDARD
TZOFFSETFROM:-0400
TZOFFSETTO:-0500
TZNAME:EST
DTSTART:20261101T060000
END:STANDARD
END:VTIMEZONE
BEGIN:VEVENT
DTSTART;VALUE=DATE:20250901
DTEND;VALUE=DATE:20250902
DTSTAMP:20260425T140656
CREATED:20230920T171204Z
LAST-MODIFIED:20250825T141412Z
UID:4757-1756684800-1756771199@www.mcacademy.ca
SUMMARY:Fête du travail - école fermée
DESCRIPTION:
URL:https://www.mcacademy.ca/fr/event/fete-du-travail-ecole-fermee/
END:VEVENT
BEGIN:VEVENT
DTSTART;VALUE=DATE:20250902
DTEND;VALUE=DATE:20250903
DTSTAMP:20260425T140656
CREATED:20230920T171246Z
LAST-MODIFIED:20250825T141545Z
UID:4759-1756771200-1756857599@www.mcacademy.ca
SUMMARY:Premier jour d'école
DESCRIPTION:
URL:https://www.mcacademy.ca/fr/event/premier-jour-decole/
END:VEVENT
BEGIN:VEVENT
DTSTART;VALUE=DATE:20250905
DTEND;VALUE=DATE:20250906
DTSTAMP:20260425T140656
CREATED:20230920T171317Z
LAST-MODIFIED:20250825T141803Z
UID:4761-1757030400-1757116799@www.mcacademy.ca
SUMMARY:Journée sans uniforme
DESCRIPTION:
URL:https://www.mcacademy.ca/fr/event/journee-sans-uniforme/
END:VEVENT
BEGIN:VEVENT
DTSTART;VALUE=DATE:20250910
DTEND;VALUE=DATE:20250912
DTSTAMP:20260425T140656
CREATED:20230920T171607Z
LAST-MODIFIED:20250825T154439Z
UID:4765-1757462400-1757635199@www.mcacademy.ca
SUMMARY:Air-Eau-Bois (canoe-camping et escalade) 7e et 8e année
DESCRIPTION:
URL:https://www.mcacademy.ca/fr/event/escalade-8e-annees/
END:VEVENT
BEGIN:VEVENT
DTSTART;VALUE=DATE:20250912
DTEND;VALUE=DATE:20250913
DTSTAMP:20260425T140656
CREATED:20230920T171643Z
LAST-MODIFIED:20250825T154558Z
UID:4767-1757635200-1757721599@www.mcacademy.ca
SUMMARY:Journée pédagogique
DESCRIPTION:
URL:https://www.mcacademy.ca/fr/event/journee-pedagogique/
END:VEVENT
BEGIN:VEVENT
DTSTART;VALUE=DATE:20250919
DTEND;VALUE=DATE:20250920
DTSTAMP:20260425T140657
CREATED:20230920T171759Z
LAST-MODIFIED:20250825T154711Z
UID:4771-1758240000-1758326399@www.mcacademy.ca
SUMMARY:Arbraska Laflèche 7e - Arbraska Rigaud - 8e
DESCRIPTION:
URL:https://www.mcacademy.ca/fr/event/arbraska-rigaud-8e-annees/
END:VEVENT
BEGIN:VEVENT
DTSTART;VALUE=DATE:20250924
DTEND;VALUE=DATE:20250925
DTSTAMP:20260425T140657
CREATED:20230920T171856Z
LAST-MODIFIED:20250825T154835Z
UID:4773-1758672000-1758758399@www.mcacademy.ca
SUMMARY:Réunion du comité des parents 19h00
DESCRIPTION:
URL:https://www.mcacademy.ca/fr/event/reunion-du-comite-des-parents-1930/
END:VEVENT
BEGIN:VEVENT
DTSTART;VALUE=DATE:20250929
DTEND;VALUE=DATE:20250930
DTSTAMP:20260425T140657
CREATED:20230920T172100Z
LAST-MODIFIED:20250825T155004Z
UID:4775-1759104000-1759190399@www.mcacademy.ca
SUMMARY:Revue périodique (FRA / MATH)
DESCRIPTION:
URL:https://www.mcacademy.ca/fr/event/revue-periodique-engl-math/
END:VEVENT
BEGIN:VEVENT
DTSTART;VALUE=DATE:20250930
DTEND;VALUE=DATE:20251001
DTSTAMP:20260425T140657
CREATED:20230920T172143Z
LAST-MODIFIED:20250902T195219Z
UID:4777-1759190400-1759276799@www.mcacademy.ca
SUMMARY:Revue périodique (SCI / ENG)
DESCRIPTION:
URL:https://www.mcacademy.ca/fr/event/revue-periodique-sciences/
END:VEVENT
END:VCALENDAR