BEGIN:VCALENDAR
VERSION:2.0
PRODID:-//mcacademy - ECPv6.15.20//NONSGML v1.0//EN
CALSCALE:GREGORIAN
METHOD:PUBLISH
X-ORIGINAL-URL:https://www.mcacademy.ca
X-WR-CALDESC:Events for mcacademy
REFRESH-INTERVAL;VALUE=DURATION:PT1H
X-Robots-Tag:noindex
X-PUBLISHED-TTL:PT1H
BEGIN:VTIMEZONE
TZID:America/Toronto
BEGIN:DAYLIGHT
TZOFFSETFROM:-0500
TZOFFSETTO:-0400
TZNAME:EDT
DTSTART:20240310T070000
END:DAYLIGHT
BEGIN:STANDARD
TZOFFSETFROM:-0400
TZOFFSETTO:-0500
TZNAME:EST
DTSTART:20241103T060000
END:STANDARD
BEGIN:DAYLIGHT
TZOFFSETFROM:-0500
TZOFFSETTO:-0400
TZNAME:EDT
DTSTART:20250309T070000
END:DAYLIGHT
BEGIN:STANDARD
TZOFFSETFROM:-0400
TZOFFSETTO:-0500
TZNAME:EST
DTSTART:20251102T060000
END:STANDARD
BEGIN:DAYLIGHT
TZOFFSETFROM:-0500
TZOFFSETTO:-0400
TZNAME:EDT
DTSTART:20260308T070000
END:DAYLIGHT
BEGIN:STANDARD
TZOFFSETFROM:-0400
TZOFFSETTO:-0500
TZNAME:EST
DTSTART:20261101T060000
END:STANDARD
BEGIN:DAYLIGHT
TZOFFSETFROM:-0500
TZOFFSETTO:-0400
TZNAME:EDT
DTSTART:20270314T070000
END:DAYLIGHT
BEGIN:STANDARD
TZOFFSETFROM:-0400
TZOFFSETTO:-0500
TZNAME:EST
DTSTART:20271107T060000
END:STANDARD
END:VTIMEZONE
BEGIN:VEVENT
DTSTART;VALUE=DATE:20251222
DTEND;VALUE=DATE:20260103
DTSTAMP:20260425T075318
CREATED:20230831T204412Z
LAST-MODIFIED:20251020T154108Z
UID:4615-1766361600-1767398399@www.mcacademy.ca
SUMMARY:Holidays
DESCRIPTION:
URL:https://www.mcacademy.ca/event/holidays/
END:VEVENT
BEGIN:VEVENT
DTSTART;VALUE=DATE:20260109
DTEND;VALUE=DATE:20260110
DTSTAMP:20260425T075318
CREATED:20230906T200703Z
LAST-MODIFIED:20251020T154430Z
UID:4624-1767916800-1768003199@www.mcacademy.ca
SUMMARY:Non-Uniform Day
DESCRIPTION:
URL:https://www.mcacademy.ca/event/non-uniform-day-5/
END:VEVENT
BEGIN:VEVENT
DTSTART;VALUE=DATE:20260119
DTEND;VALUE=DATE:20260120
DTSTAMP:20260425T075318
CREATED:20230906T200904Z
LAST-MODIFIED:20251020T170259Z
UID:4626-1768780800-1768867199@www.mcacademy.ca
SUMMARY:Formal Exam (Français / English)
DESCRIPTION:
URL:https://www.mcacademy.ca/event/formal-exam-francais-math/
END:VEVENT
BEGIN:VEVENT
DTSTART;TZID=America/Toronto:20260120T000000
DTEND;TZID=America/Toronto:20260120T235959
DTSTAMP:20260425T075318
CREATED:20230906T201348Z
LAST-MODIFIED:20260116T181651Z
UID:4628-1768867200-1768953599@www.mcacademy.ca
SUMMARY:Formal Exam (Sciences) Activity: Skating
DESCRIPTION:
URL:https://www.mcacademy.ca/event/formal-exam-sciences-english/
END:VEVENT
BEGIN:VEVENT
DTSTART;TZID=America/Toronto:20260121T000000
DTEND;TZID=America/Toronto:20260121T235959
DTSTAMP:20260425T075319
CREATED:20230906T201442Z
LAST-MODIFIED:20260116T181325Z
UID:4630-1768953600-1769039999@www.mcacademy.ca
SUMMARY:Formal Exam (Sci. Soc./Info.8e)
DESCRIPTION:
URL:https://www.mcacademy.ca/event/formal-exam-sci-soc/
END:VEVENT
BEGIN:VEVENT
DTSTART;TZID=America/Toronto:20260122T000000
DTEND;TZID=America/Toronto:20260122T235959
DTSTAMP:20260425T075319
CREATED:20230906T201540Z
LAST-MODIFIED:20260116T181458Z
UID:4632-1769040000-1769126399@www.mcacademy.ca
SUMMARY:Formal Exam (Maths/Info.7e)
DESCRIPTION:
URL:https://www.mcacademy.ca/event/formal-exam-info/
END:VEVENT
BEGIN:VEVENT
DTSTART;VALUE=DATE:20260123
DTEND;VALUE=DATE:20260124
DTSTAMP:20260425T075319
CREATED:20230906T201630Z
LAST-MODIFIED:20251020T170706Z
UID:4634-1769126400-1769212799@www.mcacademy.ca
SUMMARY:Activity Day - Dog Sledding
DESCRIPTION:
URL:https://www.mcacademy.ca/event/activity-day-dog-sledding/
END:VEVENT
BEGIN:VEVENT
DTSTART;VALUE=DATE:20260128
DTEND;VALUE=DATE:20260129
DTSTAMP:20260425T075319
CREATED:20230906T202302Z
LAST-MODIFIED:20251020T170835Z
UID:4638-1769558400-1769644799@www.mcacademy.ca
SUMMARY:Parent Committee Meeting 7p.m.
DESCRIPTION:
URL:https://www.mcacademy.ca/event/parent-committee-meeting-730p-m/
END:VEVENT
BEGIN:VEVENT
DTSTART;VALUE=DATE:20260130
DTEND;VALUE=DATE:20260131
DTSTAMP:20260425T075319
CREATED:20230906T201723Z
LAST-MODIFIED:20251020T170938Z
UID:4636-1769731200-1769817599@www.mcacademy.ca
SUMMARY:Pedagogical Day
DESCRIPTION:
URL:https://www.mcacademy.ca/event/pedagogical-day-3/
END:VEVENT
END:VCALENDAR