BEGIN:VCALENDAR
VERSION:2.0
PRODID:-//mcacademy - ECPv6.15.20//NONSGML v1.0//EN
CALSCALE:GREGORIAN
METHOD:PUBLISH
X-WR-CALNAME:mcacademy
X-ORIGINAL-URL:https://www.mcacademy.ca
X-WR-CALDESC:Events for mcacademy
REFRESH-INTERVAL;VALUE=DURATION:PT1H
X-Robots-Tag:noindex
X-PUBLISHED-TTL:PT1H
BEGIN:VTIMEZONE
TZID:America/Toronto
BEGIN:DAYLIGHT
TZOFFSETFROM:-0500
TZOFFSETTO:-0400
TZNAME:EDT
DTSTART:20240310T070000
END:DAYLIGHT
BEGIN:STANDARD
TZOFFSETFROM:-0400
TZOFFSETTO:-0500
TZNAME:EST
DTSTART:20241103T060000
END:STANDARD
BEGIN:DAYLIGHT
TZOFFSETFROM:-0500
TZOFFSETTO:-0400
TZNAME:EDT
DTSTART:20250309T070000
END:DAYLIGHT
BEGIN:STANDARD
TZOFFSETFROM:-0400
TZOFFSETTO:-0500
TZNAME:EST
DTSTART:20251102T060000
END:STANDARD
BEGIN:DAYLIGHT
TZOFFSETFROM:-0500
TZOFFSETTO:-0400
TZNAME:EDT
DTSTART:20260308T070000
END:DAYLIGHT
BEGIN:STANDARD
TZOFFSETFROM:-0400
TZOFFSETTO:-0500
TZNAME:EST
DTSTART:20261101T060000
END:STANDARD
END:VTIMEZONE
BEGIN:VEVENT
DTSTART;VALUE=DATE:20251001
DTEND;VALUE=DATE:20251002
DTSTAMP:20260425T121003
CREATED:20230831T194820Z
LAST-MODIFIED:20250825T151502Z
UID:4565-1759276800-1759363199@www.mcacademy.ca
SUMMARY:Periodic Review (S.S.)
DESCRIPTION:
URL:https://www.mcacademy.ca/event/rp-francais-info/
END:VEVENT
BEGIN:VEVENT
DTSTART;VALUE=DATE:20251002
DTEND;VALUE=DATE:20251003
DTSTAMP:20260425T121003
CREATED:20230831T194905Z
LAST-MODIFIED:20250825T151659Z
UID:4567-1759363200-1759449599@www.mcacademy.ca
SUMMARY:Periodic Review (INFO)
DESCRIPTION:
URL:https://www.mcacademy.ca/event/rp-sci-soc/
END:VEVENT
BEGIN:VEVENT
DTSTART;VALUE=DATE:20251003
DTEND;VALUE=DATE:20251004
DTSTAMP:20260425T121003
CREATED:20230831T194954Z
LAST-MODIFIED:20250825T151948Z
UID:4569-1759449600-1759535999@www.mcacademy.ca
SUMMARY:Activity day (Cycling trip)
DESCRIPTION:
URL:https://www.mcacademy.ca/event/activity-day-cycling-trip/
END:VEVENT
BEGIN:VEVENT
DTSTART;VALUE=DATE:20251008
DTEND;VALUE=DATE:20251009
DTSTAMP:20260425T121003
CREATED:20230831T195131Z
LAST-MODIFIED:20250825T152232Z
UID:4573-1759881600-1759967999@www.mcacademy.ca
SUMMARY:Staff meeting\, students leave at 2:00p.m.
DESCRIPTION:
URL:https://www.mcacademy.ca/event/staff-meeting-students-leave-at-200p-m/
END:VEVENT
BEGIN:VEVENT
DTSTART;VALUE=DATE:20251010
DTEND;VALUE=DATE:20251011
DTSTAMP:20260425T121003
CREATED:20231011T172804Z
LAST-MODIFIED:20250825T152435Z
UID:4980-1760054400-1760140799@www.mcacademy.ca
SUMMARY:Activity Day - Terry Fox
DESCRIPTION:
URL:https://www.mcacademy.ca/event/activity-day-terry-fox-2/
END:VEVENT
BEGIN:VEVENT
DTSTART;VALUE=DATE:20251013
DTEND;VALUE=DATE:20251014
DTSTAMP:20260425T121003
CREATED:20230831T201543Z
LAST-MODIFIED:20250825T153109Z
UID:4583-1760313600-1760399999@www.mcacademy.ca
SUMMARY:Thanksgiving (school closed)
DESCRIPTION:
URL:https://www.mcacademy.ca/event/thanksgiving-school-closed/
END:VEVENT
BEGIN:VEVENT
DTSTART;VALUE=DATE:20251015
DTEND;VALUE=DATE:20251016
DTSTAMP:20260425T121003
CREATED:20250902T200908Z
LAST-MODIFIED:20250902T200908Z
UID:5372-1760486400-1760572799@www.mcacademy.ca
SUMMARY:Grade 8 Parents H.S. Info. Night 7:00 PM
DESCRIPTION:
URL:https://www.mcacademy.ca/event/grade-8-parents-h-s-info-night-700-pm/
END:VEVENT
BEGIN:VEVENT
DTSTART;VALUE=DATE:20251016
DTEND;VALUE=DATE:20251017
DTSTAMP:20260425T121003
CREATED:20230831T195428Z
LAST-MODIFIED:20250825T153444Z
UID:4581-1760572800-1760659199@www.mcacademy.ca
SUMMARY:Student Pictures
DESCRIPTION:
URL:https://www.mcacademy.ca/event/student-pictures/
END:VEVENT
BEGIN:VEVENT
DTSTART;VALUE=DATE:20251017
DTEND;VALUE=DATE:20251018
DTSTAMP:20260425T121003
CREATED:20230831T195205Z
LAST-MODIFIED:20250825T153945Z
UID:4575-1760659200-1760745599@www.mcacademy.ca
SUMMARY:Non-uniform day
DESCRIPTION:
URL:https://www.mcacademy.ca/event/non-uniform-day-2/
END:VEVENT
BEGIN:VEVENT
DTSTART;VALUE=DATE:20251019
DTEND;VALUE=DATE:20251020
DTSTAMP:20260425T121003
CREATED:20230831T195250Z
LAST-MODIFIED:20250908T191627Z
UID:4577-1760832000-1760918399@www.mcacademy.ca
SUMMARY:Entrance Exams
DESCRIPTION:
URL:https://www.mcacademy.ca/event/entrance-exams/
END:VEVENT
END:VCALENDAR