BEGIN:VCALENDAR
VERSION:2.0
PRODID:-//mcacademy - ECPv6.15.20//NONSGML v1.0//EN
CALSCALE:GREGORIAN
METHOD:PUBLISH
X-WR-CALNAME:mcacademy
X-ORIGINAL-URL:https://www.mcacademy.ca
X-WR-CALDESC:Events for mcacademy
REFRESH-INTERVAL;VALUE=DURATION:PT1H
X-Robots-Tag:noindex
X-PUBLISHED-TTL:PT1H
BEGIN:VTIMEZONE
TZID:America/Toronto
BEGIN:DAYLIGHT
TZOFFSETFROM:-0500
TZOFFSETTO:-0400
TZNAME:EDT
DTSTART:20240310T070000
END:DAYLIGHT
BEGIN:STANDARD
TZOFFSETFROM:-0400
TZOFFSETTO:-0500
TZNAME:EST
DTSTART:20241103T060000
END:STANDARD
BEGIN:DAYLIGHT
TZOFFSETFROM:-0500
TZOFFSETTO:-0400
TZNAME:EDT
DTSTART:20250309T070000
END:DAYLIGHT
BEGIN:STANDARD
TZOFFSETFROM:-0400
TZOFFSETTO:-0500
TZNAME:EST
DTSTART:20251102T060000
END:STANDARD
BEGIN:DAYLIGHT
TZOFFSETFROM:-0500
TZOFFSETTO:-0400
TZNAME:EDT
DTSTART:20260308T070000
END:DAYLIGHT
BEGIN:STANDARD
TZOFFSETFROM:-0400
TZOFFSETTO:-0500
TZNAME:EST
DTSTART:20261101T060000
END:STANDARD
END:VTIMEZONE
BEGIN:VEVENT
DTSTART;VALUE=DATE:20250901
DTEND;VALUE=DATE:20250902
DTSTAMP:20260425T134131
CREATED:20240611T171333Z
LAST-MODIFIED:20250825T142732Z
UID:5152-1756684800-1756771199@www.mcacademy.ca
SUMMARY:Labour Day - School Closed
DESCRIPTION:
URL:https://www.mcacademy.ca/event/labour-day-school-closed/
END:VEVENT
BEGIN:VEVENT
DTSTART;VALUE=DATE:20250902
DTEND;VALUE=DATE:20250903
DTSTAMP:20260425T134131
CREATED:20230831T193653Z
LAST-MODIFIED:20250825T143322Z
UID:4549-1756771200-1756857599@www.mcacademy.ca
SUMMARY:First day of school
DESCRIPTION:
URL:https://www.mcacademy.ca/event/first-day-of-school/
END:VEVENT
BEGIN:VEVENT
DTSTART;VALUE=DATE:20250905
DTEND;VALUE=DATE:20250906
DTSTAMP:20260425T134131
CREATED:20230831T193806Z
LAST-MODIFIED:20250825T143806Z
UID:4551-1757030400-1757116799@www.mcacademy.ca
SUMMARY:Non-uniform day
DESCRIPTION:
URL:https://www.mcacademy.ca/event/non-uniform-day/
END:VEVENT
BEGIN:VEVENT
DTSTART;VALUE=DATE:20250910
DTEND;VALUE=DATE:20250912
DTSTAMP:20260425T134131
CREATED:20230831T194011Z
LAST-MODIFIED:20250825T144145Z
UID:4553-1757462400-1757635199@www.mcacademy.ca
SUMMARY:Air-Eau-Bois (Canoe-Camping & Rock Climbing) Grade 7 & 8
DESCRIPTION:
URL:https://www.mcacademy.ca/event/canoe-camping-7th-grade-rock-climbing-and-ziplining-8th-grade/
END:VEVENT
BEGIN:VEVENT
DTSTART;VALUE=DATE:20250912
DTEND;VALUE=DATE:20250913
DTSTAMP:20260425T134131
CREATED:20230831T194126Z
LAST-MODIFIED:20250825T145337Z
UID:4555-1757635200-1757721599@www.mcacademy.ca
SUMMARY:Pedagogical Day
DESCRIPTION:
URL:https://www.mcacademy.ca/event/pedagogical-day/
END:VEVENT
BEGIN:VEVENT
DTSTART;VALUE=DATE:20250919
DTEND;VALUE=DATE:20250920
DTSTAMP:20260425T134132
CREATED:20230831T194404Z
LAST-MODIFIED:20250825T150714Z
UID:4557-1758240000-1758326399@www.mcacademy.ca
SUMMARY:Arbraska Laflèche 7th grade / Arbraska Rigaud 8th grade
DESCRIPTION:
URL:https://www.mcacademy.ca/event/arbraska-lafleche-7th-grade-arbraska-rigaud-8th-grade/
END:VEVENT
BEGIN:VEVENT
DTSTART;VALUE=DATE:20250924
DTEND;VALUE=DATE:20250925
DTSTAMP:20260425T134132
CREATED:20230831T194510Z
LAST-MODIFIED:20250825T151006Z
UID:4559-1758672000-1758758399@www.mcacademy.ca
SUMMARY:Parent Committee meeting (BOG) 7:00 PM
DESCRIPTION:
URL:https://www.mcacademy.ca/event/parent-committee-meeting-bog-730p-m/
END:VEVENT
BEGIN:VEVENT
DTSTART;VALUE=DATE:20250929
DTEND;VALUE=DATE:20250930
DTSTAMP:20260425T134132
CREATED:20230831T194657Z
LAST-MODIFIED:20250825T151241Z
UID:4561-1759104000-1759190399@www.mcacademy.ca
SUMMARY:Periodic Review (FRA / MATH)
DESCRIPTION:
URL:https://www.mcacademy.ca/event/rp-english-math/
END:VEVENT
BEGIN:VEVENT
DTSTART;VALUE=DATE:20250930
DTEND;VALUE=DATE:20251001
DTSTAMP:20260425T134132
CREATED:20230831T194734Z
LAST-MODIFIED:20250825T151354Z
UID:4563-1759190400-1759276799@www.mcacademy.ca
SUMMARY:Periodic Review (SCI/ENG)
DESCRIPTION:
URL:https://www.mcacademy.ca/event/rp-science/
END:VEVENT
END:VCALENDAR