BEGIN:VCALENDAR
VERSION:2.0
PRODID:-//mcacademy - ECPv6.15.20//NONSGML v1.0//EN
CALSCALE:GREGORIAN
METHOD:PUBLISH
X-WR-CALNAME:mcacademy
X-ORIGINAL-URL:https://www.mcacademy.ca
X-WR-CALDESC:Events for mcacademy
REFRESH-INTERVAL;VALUE=DURATION:PT1H
X-Robots-Tag:noindex
X-PUBLISHED-TTL:PT1H
BEGIN:VTIMEZONE
TZID:America/Toronto
BEGIN:DAYLIGHT
TZOFFSETFROM:-0500
TZOFFSETTO:-0400
TZNAME:EDT
DTSTART:20240310T070000
END:DAYLIGHT
BEGIN:STANDARD
TZOFFSETFROM:-0400
TZOFFSETTO:-0500
TZNAME:EST
DTSTART:20241103T060000
END:STANDARD
BEGIN:DAYLIGHT
TZOFFSETFROM:-0500
TZOFFSETTO:-0400
TZNAME:EDT
DTSTART:20250309T070000
END:DAYLIGHT
BEGIN:STANDARD
TZOFFSETFROM:-0400
TZOFFSETTO:-0500
TZNAME:EST
DTSTART:20251102T060000
END:STANDARD
BEGIN:DAYLIGHT
TZOFFSETFROM:-0500
TZOFFSETTO:-0400
TZNAME:EDT
DTSTART:20260308T070000
END:DAYLIGHT
BEGIN:STANDARD
TZOFFSETFROM:-0400
TZOFFSETTO:-0500
TZNAME:EST
DTSTART:20261101T060000
END:STANDARD
END:VTIMEZONE
BEGIN:VEVENT
DTSTART;VALUE=DATE:20250612
DTEND;VALUE=DATE:20250613
DTSTAMP:20260425T175330
CREATED:20230920T164954Z
LAST-MODIFIED:20250224T144041Z
UID:4735-1749686400-1749772799@www.mcacademy.ca
SUMMARY:Formal Exam (FRA/MATH)
DESCRIPTION:
URL:https://www.mcacademy.ca/event/formal-exam-francais-math-2/
END:VEVENT
BEGIN:VEVENT
DTSTART;VALUE=DATE:20250613
DTEND;VALUE=DATE:20250614
DTSTAMP:20260425T175330
CREATED:20230920T165813Z
LAST-MODIFIED:20250512T145254Z
UID:4739-1749772800-1749859199@www.mcacademy.ca
SUMMARY:Formal Exam (S.S)
DESCRIPTION:
URL:https://www.mcacademy.ca/event/formal-exam-sci-soc-2/
END:VEVENT
BEGIN:VEVENT
DTSTART;VALUE=DATE:20250616
DTEND;VALUE=DATE:20250617
DTSTAMP:20260425T175330
CREATED:20230920T165713Z
LAST-MODIFIED:20250512T145527Z
UID:4737-1750032000-1750118399@www.mcacademy.ca
SUMMARY:Formal Exam (SCI/INFO 8)
DESCRIPTION:
URL:https://www.mcacademy.ca/event/formal-exam-sciences-english-2/
END:VEVENT
BEGIN:VEVENT
DTSTART;VALUE=DATE:20250617
DTEND;VALUE=DATE:20250618
DTSTAMP:20260425T175330
CREATED:20230920T165909Z
LAST-MODIFIED:20250512T145441Z
UID:4741-1750118400-1750204799@www.mcacademy.ca
SUMMARY:Formal Exam (ENG/INFO 7)
DESCRIPTION:
URL:https://www.mcacademy.ca/event/formal-exam-info-2/
END:VEVENT
BEGIN:VEVENT
DTSTART;VALUE=DATE:20250618
DTEND;VALUE=DATE:20250621
DTSTAMP:20260425T175330
CREATED:20230920T170008Z
LAST-MODIFIED:20250224T144747Z
UID:4743-1750204800-1750463999@www.mcacademy.ca
SUMMARY:No School
DESCRIPTION:
URL:https://www.mcacademy.ca/event/no-school/
END:VEVENT
BEGIN:VEVENT
DTSTART;VALUE=DATE:20250623
DTEND;VALUE=DATE:20250625
DTSTAMP:20260425T175330
CREATED:20230920T170053Z
LAST-MODIFIED:20250224T144910Z
UID:4745-1750636800-1750809599@www.mcacademy.ca
SUMMARY:7th Grade Sandbanks Trip (optional)
DESCRIPTION:
URL:https://www.mcacademy.ca/event/7th-grade-sandbanks-trip-optional/
END:VEVENT
BEGIN:VEVENT
DTSTART;VALUE=DATE:20250625
DTEND;VALUE=DATE:20250626
DTSTAMP:20260425T175330
CREATED:20230920T170156Z
LAST-MODIFIED:20250224T145201Z
UID:4747-1750809600-1750895999@www.mcacademy.ca
SUMMARY:8th Grade Rafting Trip (optional)
DESCRIPTION:
URL:https://www.mcacademy.ca/event/8th-grade-rafting-trip-optional/
END:VEVENT
BEGIN:VEVENT
DTSTART;VALUE=DATE:20250626
DTEND;VALUE=DATE:20250627
DTSTAMP:20260425T175330
CREATED:20230920T170321Z
LAST-MODIFIED:20250224T145256Z
UID:4749-1750896000-1750982399@www.mcacademy.ca
SUMMARY:Merits and report card ceremony 7:30p.m.
DESCRIPTION:
URL:https://www.mcacademy.ca/event/merits-and-report-card-ceremony-730p-m/
END:VEVENT
END:VCALENDAR