BEGIN:VCALENDAR
VERSION:2.0
PRODID:-//mcacademy - ECPv6.15.20//NONSGML v1.0//EN
CALSCALE:GREGORIAN
METHOD:PUBLISH
X-WR-CALNAME:mcacademy
X-ORIGINAL-URL:https://www.mcacademy.ca
X-WR-CALDESC:Events for mcacademy
REFRESH-INTERVAL;VALUE=DURATION:PT1H
X-Robots-Tag:noindex
X-PUBLISHED-TTL:PT1H
BEGIN:VTIMEZONE
TZID:America/Toronto
BEGIN:DAYLIGHT
TZOFFSETFROM:-0500
TZOFFSETTO:-0400
TZNAME:EDT
DTSTART:20240310T070000
END:DAYLIGHT
BEGIN:STANDARD
TZOFFSETFROM:-0400
TZOFFSETTO:-0500
TZNAME:EST
DTSTART:20241103T060000
END:STANDARD
BEGIN:DAYLIGHT
TZOFFSETFROM:-0500
TZOFFSETTO:-0400
TZNAME:EDT
DTSTART:20250309T070000
END:DAYLIGHT
BEGIN:STANDARD
TZOFFSETFROM:-0400
TZOFFSETTO:-0500
TZNAME:EST
DTSTART:20251102T060000
END:STANDARD
BEGIN:DAYLIGHT
TZOFFSETFROM:-0500
TZOFFSETTO:-0400
TZNAME:EDT
DTSTART:20260308T070000
END:DAYLIGHT
BEGIN:STANDARD
TZOFFSETFROM:-0400
TZOFFSETTO:-0500
TZNAME:EST
DTSTART:20261101T060000
END:STANDARD
END:VTIMEZONE
BEGIN:VEVENT
DTSTART;VALUE=DATE:20250502
DTEND;VALUE=DATE:20250503
DTSTAMP:20260425T193131
CREATED:20230920T154836Z
LAST-MODIFIED:20250224T142825Z
UID:4719-1746144000-1746230399@www.mcacademy.ca
SUMMARY:Non-uniform day
DESCRIPTION:
URL:https://www.mcacademy.ca/event/non-uniform-day-9/
END:VEVENT
BEGIN:VEVENT
DTSTART;VALUE=DATE:20250513
DTEND;VALUE=DATE:20250514
DTSTAMP:20260425T193131
CREATED:20230920T163712Z
LAST-MODIFIED:20250318T185707Z
UID:4727-1747094400-1747180799@www.mcacademy.ca
SUMMARY:Parent Committee Meeting 7:30p.m.
DESCRIPTION:
URL:https://www.mcacademy.ca/event/parent-committee-meeting-730p-m-3/
END:VEVENT
BEGIN:VEVENT
DTSTART;VALUE=DATE:20250516
DTEND;VALUE=DATE:20250517
DTSTAMP:20260425T193131
CREATED:20230920T163523Z
LAST-MODIFIED:20250224T143233Z
UID:4723-1747353600-1747439999@www.mcacademy.ca
SUMMARY:Activity Day - Cycling
DESCRIPTION:
URL:https://www.mcacademy.ca/event/activity-day-cycling/
END:VEVENT
BEGIN:VEVENT
DTSTART;VALUE=DATE:20250519
DTEND;VALUE=DATE:20250520
DTSTAMP:20260425T193131
CREATED:20230920T163606Z
LAST-MODIFIED:20250224T143344Z
UID:4725-1747612800-1747699199@www.mcacademy.ca
SUMMARY:Victoria Day
DESCRIPTION:
URL:https://www.mcacademy.ca/event/victoria-day/
END:VEVENT
BEGIN:VEVENT
DTSTART;VALUE=DATE:20250523
DTEND;VALUE=DATE:20250524
DTSTAMP:20260425T193131
CREATED:20230920T163916Z
LAST-MODIFIED:20250224T143701Z
UID:4729-1747958400-1748044799@www.mcacademy.ca
SUMMARY:Public Speaking Contest
DESCRIPTION:
URL:https://www.mcacademy.ca/event/public-speaking-contest/
END:VEVENT
BEGIN:VEVENT
DTSTART;VALUE=DATE:20250527
DTEND;VALUE=DATE:20250530
DTSTAMP:20260425T193131
CREATED:20230920T164733Z
LAST-MODIFIED:20250224T143826Z
UID:4731-1748304000-1748563199@www.mcacademy.ca
SUMMARY:Cycling Trip
DESCRIPTION:
URL:https://www.mcacademy.ca/event/cycling-trip/
END:VEVENT
BEGIN:VEVENT
DTSTART;VALUE=DATE:20250530
DTEND;VALUE=DATE:20250531
DTSTAMP:20260425T193131
CREATED:20230920T164822Z
LAST-MODIFIED:20250224T143939Z
UID:4733-1748563200-1748649599@www.mcacademy.ca
SUMMARY:Pedagogical Day
DESCRIPTION:
URL:https://www.mcacademy.ca/event/pedagogical-day-5/
END:VEVENT
END:VCALENDAR